BEGIN:VCALENDAR
VERSION:2.0
PRODID:Boucherville AG
CALSCALE:GREGORIAN
METHOD:PUBLISH
BEGIN:VTIMEZONE
TZID:Europe/Zurich
BEGIN:STANDARD
TZOFFSETTO:+0100
TZOFFSETFROM:+0100
END:STANDARD
END:VTIMEZONE
BEGIN:VEVENT
DTSTART:20260130T100000
DTEND:20260131T150000
SUMMARY:Grosser Lagerverkauf
LOCATION:Boucherville Lager
Eichstrasse 44
8152 Glattbrugg
DESCRIPTION:Date\nFreitag, 30. Januar 2026, 10–16 Uhr\nSamstag, 31. Januar 2026,  9–15 Uhr\n\nAdmission\nKostenlos\n\nInformation\nParkplätze stehen zur Verfügung.\nVor Ort ist die Bezahlung nur in bar oder per Twint möglich.
PRIORITY:3
END:VEVENT
END:VCALENDAR
