BEGIN:VCALENDAR
VERSION:2.0
PRODID:Boucherville AG
CALSCALE:GREGORIAN
METHOD:PUBLISH
BEGIN:VTIMEZONE
TZID:Europe/Zurich
BEGIN:STANDARD
TZOFFSETTO:+0100
TZOFFSETFROM:+0100
END:STANDARD
END:VTIMEZONE
BEGIN:VEVENT
DTSTART:20230602T150000
DTEND:20230603T193000
SUMMARY:Degustation Italien
LOCATION:Boucherville Weinladen, Kinkelstrasse 40, 8006 Zürich
DESCRIPTION:Date\nFreitag, 2. Juni 2023, 15.00 bis 19.30 Uhr\nSamstag, 3. Juni 2023, 11.00 bis 16.00 Uhr\n\nAdmission\nKostenlos, keine Anmeldung erforderlich\n\nInformation\nWir empfehlen mit den öffentlichen Verkehrsmittel anzureisen. Parkplätze stehen nur begrenzt zur Verfügung
PRIORITY:3
END:VEVENT
END:VCALENDAR
